BEGIN:VCALENDAR
VERSION:2.0
PRODID:-//Tukios.com/
BEGIN:VEVENT
UID:26e553cb-5e40-42c8-aad2-56df422a8db0@www.mlkmemorialchapels.com
DTSTAMP:20260421T232157Z
DTSTART:20260425T150000Z
DTEND:20260425T160000Z
SUMMARY:Funeral Service
DESCRIPTION:
URL:https://www.mlkmemorialchapels.com/obituaries/benny-sisroe-jr
LOCATION:Olive Faith Center Greater Second Mt. Olive Missionary Baptist 
	Church 103 Dewey Street  Albany GA 31705
GEO:31.5766433;-84.1354135
END:VEVENT
END:VCALENDAR