BEGIN:VCALENDAR
VERSION:2.0
PRODID:-//Tukios.com/
BEGIN:VEVENT
UID:fce4d575-2517-49cc-879e-40103b97f22c@www.mlkmemorialchapels.com
DTSTAMP:20260421T232340Z
DTSTART:20260424T150000Z
DTEND:20260424T220000Z
SUMMARY:Viewing
DESCRIPTION:
URL:https://www.mlkmemorialchapels.com/obituaries/benny-sisroe-jr
LOCATION: 1908 Martin Luther King, Jr. Drive  Albany GA 31701
GEO:31.5547952;-84.1547741
END:VEVENT
END:VCALENDAR