BEGIN:VCALENDAR
VERSION:2.0
PRODID:-//Tukios.com/
BEGIN:VEVENT
UID:bd3fce0f-3eec-446d-9225-387f4908bf8e@www.mlkmemorialchapels.com
DTSTAMP:20260421T232112Z
DTSTART:20260425
SUMMARY:Burial
DESCRIPTION:
URL:https://www.mlkmemorialchapels.com/obituaries/benny-sisroe-jr
LOCATION:Union Memorial Cemetery 1100 South McKinley Street  Albany GA 
	31701
GEO:31.5638386;-84.1663265
END:VEVENT
END:VCALENDAR